BEGIN:VCALENDAR
VERSION:2.0
CALSCALE:GREGORIAN
PRODID:-//Diputació de Barcelona//DibaCMS//EN
BEGIN:VEVENT
UID:3351
DTSTAMP:20260425T050532
DTSTART:20220310T170000
DTEND:20220310T200000
SUMMARY:Berenar Lila
LOCATION:Plaça Anna Bosch, s/n 08590  Figaró-Montmany
METHOD:PUBLISH
X-WR-CALNAME:figaro@figaro-montmany.cat
X-WR-TIMEZONE:Europe/Madrid
DESCRIPTION:Acosta't a l'Espai Jove per compartir una estona de berenar, xerrar i trobar la teva manera de reivindicar que cada dia és 8M !

URI:https://www.figaro-montmany.cat/actualitat/agenda/3351-berenar-lila.html
CLASS:PUBLIC
END:VEVENT
END:VCALENDAR
