BEGIN:VCALENDAR
VERSION:2.0
CALSCALE:GREGORIAN
PRODID:-//Diputació de Barcelona//DibaCMS//EN
BEGIN:VEVENT
UID:3832
DTSTAMP:20260425T201344
DTSTART:20230709T120000
DTEND:20230709T130000
SUMMARY:Mulla't 2023
LOCATION:Piscines Municipals de Figaró 
METHOD:PUBLISH
X-WR-CALNAME:figaro@figaro-montmany.cat
X-WR-TIMEZONE:Europe/Madrid
DESCRIPTION:Un any més, Figaró es mulla per l'Esclerosi Múltiple

URI:https://www.figaro-montmany.cat/actualitat/agenda/mullat-2023.html
CLASS:PUBLIC
END:VEVENT
END:VCALENDAR
