BEGIN:VCALENDAR
VERSION:2.0
CALSCALE:GREGORIAN
PRODID:-//Diputació de Barcelona//DibaCMS//EN
BEGIN:VEVENT
UID:4712
DTSTAMP:20260423T224637
DTSTART:20251213T170000
DTEND:20251213T200000
SUMMARY:Fira de Nadal de Figaró
LOCATION:Plaça Anna Bosch 
METHOD:PUBLISH
X-WR-CALNAME:figaro@figaro-montmany.cat
X-WR-TIMEZONE:Europe/Madrid
DESCRIPTION:Dissabte 13 de desembre a les 17 h la Fira de Nadal de Figaró-Montmany, a la plaça Anna Bosch. Amb parades d’artesania, gastronomia i artistes de proximitat per mirar, remenar i trobar el millor regal d’aquestes festes.

URI:https://www.figaro-montmany.cat/actualitat/agenda/fira-de-nadal-de-figaro.html
CLASS:PUBLIC
END:VEVENT
END:VCALENDAR
