BEGIN:VCALENDAR
VERSION:2.0
CALSCALE:GREGORIAN
PRODID:-//Diputació de Barcelona//DibaCMS//EN
BEGIN:VEVENT
UID:4713
DTSTAMP:20260423T210856
DTSTART:20251213T175000
DTEND:20251213T180000
SUMMARY:Encesa dels Llums de Nadal a Figaró
LOCATION:Plaça Anna Bosch 
METHOD:PUBLISH
X-WR-CALNAME:figaro@figaro-montmany.cat
X-WR-TIMEZONE:Europe/Madrid
DESCRIPTION:Aquest dissabte 13 de desembre a les 17:50 h a la plaça Anna Bosch celebrem l’encesa oficial dels llums de Nadal, dins la programació de la Fira de Nadal de Figaró.

URI:https://www.figaro-montmany.cat/actualitat/agenda/encesa-dels-llums-de-nadal-a-figaro.html
CLASS:PUBLIC
END:VEVENT
END:VCALENDAR
