BEGIN:VCALENDAR
VERSION:2.0
CALSCALE:GREGORIAN
PRODID:-//Diputació de Barcelona//DibaCMS//EN
BEGIN:VEVENT
UID:4714
DTSTAMP:20260423T224122
DTSTART:20251213T170000
DTEND:20251213T180000
SUMMARY:Concurs de pintxos dolços a la Fira de Nadal
LOCATION:Plaça Anna Bosch 
METHOD:PUBLISH
X-WR-CALNAME:figaro@figaro-montmany.cat
X-WR-TIMEZONE:Europe/Madrid
DESCRIPTION:Aquest dissabte també tindrem un concurs de pintxos dolços a la Fira de Nadal. A les 17 h a la plaça Anna Bosch. Podeu participar o tastar!

URI:https://www.figaro-montmany.cat/actualitat/agenda/concurs-de-pintxos-dolcos-a-la-fira-de-nadal.html
CLASS:PUBLIC
END:VEVENT
END:VCALENDAR
