BEGIN:VCALENDAR
VERSION:2.0
CALSCALE:GREGORIAN
PRODID:-//Diputació de Barcelona//DibaCMS//EN
BEGIN:VEVENT
UID:4715
DTSTAMP:20260423T195205
DTSTART:20251213T180000
DTEND:20251213T190000
SUMMARY:Presentació del llibre - JUSQUIAM NEGRE. L’OMBRA DEL DUBTE
LOCATION:Biblioteca Centre Cívic 
METHOD:PUBLISH
X-WR-CALNAME:figaro@figaro-montmany.cat
X-WR-TIMEZONE:Europe/Madrid
DESCRIPTION:Dissabte 13 de desembre a les 18 h a la Biblioteca del Centre Cívic, es farà la presentació del llibre "Jusquiam negre. L'ombra del dubte" a càrrec de l'autor Ramon Closas. 

URI:https://www.figaro-montmany.cat/actualitat/agenda/presentacio-del-llibre-jusquiam-negre-lombra-del-dubte.html
CLASS:PUBLIC
END:VEVENT
END:VCALENDAR
