BEGIN:VCALENDAR
VERSION:2.0
CALSCALE:GREGORIAN
PRODID:-//Diputació de Barcelona//DibaCMS//EN
BEGIN:VEVENT
UID:4716
DTSTAMP:20260423T211009
DTSTART:20251213T173000
DTEND:20251213T190000
SUMMARY:Conte de Nadal: El tió rialler
LOCATION:08590  Figaró-Montmany
METHOD:PUBLISH
X-WR-CALNAME:figaro@figaro-montmany.cat
X-WR-TIMEZONE:Europe/Madrid
DESCRIPTION:Dissabte 13 de desembre es llegirà el conte de Nadal: el tió rialler, per a infants de fins a 10 anys. Que tindrà lloc a la Sala Nou Casino en diversos torns entre les 17.30 h i les 19 h a través del codi QR. 

URI:https://www.figaro-montmany.cat/actualitat/agenda/conte-de-nadal-el-tio-rialler.html
CLASS:PUBLIC
END:VEVENT
END:VCALENDAR
