BEGIN:VCALENDAR
VERSION:2.0
CALSCALE:GREGORIAN
PRODID:-//Diputació de Barcelona//DibaCMS//EN
BEGIN:VEVENT
UID:4818
DTSTAMP:20260422T115049
DTSTART:20260430T190000
DTEND:20260430T200000
SUMMARY:Convocatòria per a cobrir tres vacants a la Comissió Permanent de Participació Ciutadana
LOCATION:
METHOD:PUBLISH
X-WR-CALNAME:figaro@figaro-montmany.cat
X-WR-TIMEZONE:Europe/Madrid
DESCRIPTION:L’Ajuntament de Figaró-Montmany ha obert el procés per cobrir tres places vacants a la Comissió Permanent de Participació Ciutadana (CPPC), un òrgan clau per fomentar la implicació de la ciutadania en la presa de decisions municipals.

URI:https://www.figaro-montmany.cat/actualitat/agenda/convocatoria-per-a-cobrir-tres-vacants-a-la-comissio-permanent-de-participacio-ciutadana.html
CLASS:PUBLIC
END:VEVENT
END:VCALENDAR
