BEGIN:VCALENDAR
VERSION:2.0
CALSCALE:GREGORIAN
PRODID:-//Diputació de Barcelona//DibaCMS//EN
BEGIN:VEVENT
UID:4840
DTSTAMP:20260422T123627
DTSTART:20260423T090000
DTEND:20260423T200000
SUMMARY:Sant Jordi 2026
LOCATION:Plaça Anna Bosch i Ctra. de Ribes 
METHOD:PUBLISH
X-WR-CALNAME:figaro@figaro-montmany.cat
X-WR-TIMEZONE:Europe/Madrid
DESCRIPTION:Des de l’Ajuntament de Figaró-Montmany celebrem la diada de Sant Jordi amb diverses activitats culturals al llarg de la setmana del 13 al 24 d'abril. La Diada hi haurà les parades de roses i llibres durant tot el dia entre la plaça Anna Bosch i la carretera de Ribes.

URI:https://www.figaro-montmany.cat/actualitat/agenda/4840-sant-jordi-2026.html
CLASS:PUBLIC
END:VEVENT
END:VCALENDAR
