BEGIN:VCALENDAR
VERSION:2.0
CALSCALE:GREGORIAN
PRODID:-//Diputació de Barcelona//DibaCMS//EN
BEGIN:VEVENT
UID:4845
DTSTAMP:20260422T043540
DTSTART:20260425T113000
DTEND:20260425T150000
SUMMARY:Dia Internacional de la Dansa 2026 a Figaró-Montmany
LOCATION:Plaça Anna Bosch 
METHOD:PUBLISH
X-WR-CALNAME:figaro@figaro-montmany.cat
X-WR-TIMEZONE:Europe/Madrid
DESCRIPTION:El proper dissabte 25 d’abril, Figaró-Montmany celebra el Dia Internacional de la Dansa amb una jornada plena de ritme, energia i talent a la Plaça Anna Bosch. Durant el matí, podràs gaudir de classes obertes i exhibicions de diferents estils de dansa, pensades tant per a participants com per a públic general.

URI:https://www.figaro-montmany.cat/actualitat/agenda/4845-dia-internacional-de-la-dansa-2026-a-figaro-montmany.html
CLASS:PUBLIC
END:VEVENT
END:VCALENDAR
