BEGIN:VCALENDAR
VERSION:2.0
CALSCALE:GREGORIAN
PRODID:-//Diputació de Barcelona//DibaCMS//EN
BEGIN:VEVENT
UID:4846
DTSTAMP:20260422T043524
DTSTART:20260429T114500
DTEND:20260429T134500
SUMMARY:OAC mòbil a Figaró el 29 d’abril
LOCATION:
METHOD:PUBLISH
X-WR-CALNAME:figaro@figaro-montmany.cat
X-WR-TIMEZONE:Europe/Madrid
DESCRIPTION:L’Oficina d’Atenció Ciutadana mòbil (OAC mòbil) arribarà a Figaró el proper 29 d’abril i s’ubicarà a la plaça Anna Bosch, en horari de 11.45 a 13.45 h. És un servei de la Generalitat de Catalunya que té com a objectiu acostar els tràmits i serveis públics a la ciutadania.

URI:https://www.figaro-montmany.cat/actualitat/agenda/oac-mobil-a-figaro-el-29-dabril.html
CLASS:PUBLIC
END:VEVENT
END:VCALENDAR
